BEGIN:VCALENDAR
VERSION:2.0
PRODID:-//lehramehra.de - ECPv6.15.13.1//NONSGML v1.0//EN
CALSCALE:GREGORIAN
METHOD:PUBLISH
X-WR-CALNAME:lehramehra.de
X-ORIGINAL-URL:https://lehramehra.de
X-WR-CALDESC:Veranstaltungen für lehramehra.de
REFRESH-INTERVAL;VALUE=DURATION:PT1H
X-Robots-Tag:noindex
X-PUBLISHED-TTL:PT1H
BEGIN:VTIMEZONE
TZID:Europe/Berlin
BEGIN:DAYLIGHT
TZOFFSETFROM:+0100
TZOFFSETTO:+0200
TZNAME:CEST
DTSTART:20240331T010000
END:DAYLIGHT
BEGIN:STANDARD
TZOFFSETFROM:+0200
TZOFFSETTO:+0100
TZNAME:CET
DTSTART:20241027T010000
END:STANDARD
BEGIN:DAYLIGHT
TZOFFSETFROM:+0100
TZOFFSETTO:+0200
TZNAME:CEST
DTSTART:20250330T010000
END:DAYLIGHT
BEGIN:STANDARD
TZOFFSETFROM:+0200
TZOFFSETTO:+0100
TZNAME:CET
DTSTART:20251026T010000
END:STANDARD
BEGIN:DAYLIGHT
TZOFFSETFROM:+0100
TZOFFSETTO:+0200
TZNAME:CEST
DTSTART:20260329T010000
END:DAYLIGHT
BEGIN:STANDARD
TZOFFSETFROM:+0200
TZOFFSETTO:+0100
TZNAME:CET
DTSTART:20261025T010000
END:STANDARD
END:VTIMEZONE
BEGIN:VEVENT
DTSTART;TZID=Europe/Berlin:20251211T200000
DTEND;TZID=Europe/Berlin:20251211T220000
DTSTAMP:20260423T090532
CREATED:20250524T063711Z
LAST-MODIFIED:20250524T063757Z
UID:797-1765483200-1765490400@lehramehra.de
SUMMARY:Lehra und Mehra - Weihnachtsmitsingkonzert
DESCRIPTION:Bei diesem Konzert dürfen Sie traditionell selber ran.\nMitsingen ist angesagt\, zumindest bei einigen Liedern. Und Lehra und Mehra machen´s vor.\nWelches Liedgut erwartet das Publikum an diesem Abend? Sie hören und singen: weihnachtlich Stimmungsvolles\, Beswingtes und Grooviges\, Heiteres und Humorvolles\, Ein – und Mehrstimmiges\, Leichtes und Anspruchsvolles\, Altes und Modernes\, Hiesiges und Entferntes. \nVeranstalter ist der Chor Lehra und Mehra\, gesponsert wird der Abend von der VR-Bank Ostbayern-Mitte. \nHier gehts zum Kartenvorverkauf
URL:https://lehramehra.de/event/lehra-und-mehra-25-jahre-chormusik-best-of-3/
LOCATION:Langhaussaal Rathaus Cham\, Marktplatz 2\, Cham\, Bayern\, 93413\, Germany
CATEGORIES:Lehra&Mehra
ATTACH;FMTTYPE=image/jpeg:https://lehramehra.de/wp-content/uploads/Lum-im-Raum.jpg
END:VEVENT
END:VCALENDAR