BEGIN:VCALENDAR
VERSION:2.0
PRODID:-//lehramehra.de - ECPv6.15.13.1//NONSGML v1.0//EN
CALSCALE:GREGORIAN
METHOD:PUBLISH
X-ORIGINAL-URL:https://lehramehra.de
X-WR-CALDESC:Veranstaltungen für lehramehra.de
REFRESH-INTERVAL;VALUE=DURATION:PT1H
X-Robots-Tag:noindex
X-PUBLISHED-TTL:PT1H
BEGIN:VTIMEZONE
TZID:Europe/Berlin
BEGIN:DAYLIGHT
TZOFFSETFROM:+0100
TZOFFSETTO:+0200
TZNAME:CEST
DTSTART:20240331T010000
END:DAYLIGHT
BEGIN:STANDARD
TZOFFSETFROM:+0200
TZOFFSETTO:+0100
TZNAME:CET
DTSTART:20241027T010000
END:STANDARD
BEGIN:DAYLIGHT
TZOFFSETFROM:+0100
TZOFFSETTO:+0200
TZNAME:CEST
DTSTART:20250330T010000
END:DAYLIGHT
BEGIN:STANDARD
TZOFFSETFROM:+0200
TZOFFSETTO:+0100
TZNAME:CET
DTSTART:20251026T010000
END:STANDARD
BEGIN:DAYLIGHT
TZOFFSETFROM:+0100
TZOFFSETTO:+0200
TZNAME:CEST
DTSTART:20260329T010000
END:DAYLIGHT
BEGIN:STANDARD
TZOFFSETFROM:+0200
TZOFFSETTO:+0100
TZNAME:CET
DTSTART:20261025T010000
END:STANDARD
END:VTIMEZONE
BEGIN:VEVENT
DTSTART;TZID=Europe/Berlin:20251024T190000
DTEND;TZID=Europe/Berlin:20251024T210000
DTSTAMP:20260423T121213
CREATED:20250523T134632Z
LAST-MODIFIED:20250524T064210Z
UID:788-1761332400-1761339600@lehramehra.de
SUMMARY:Lehra und Mehra - 25 Jahre Chormusik - Best of
DESCRIPTION:Was für eine Geschichte! \nVor einem Vierteljahrhundert gründete Andreas Ernst als Musiklehrer am Joseph-von-Fraunhofer-Gymnasium einen Lehrerchor. \nGenau acht Sängerinnen und Sänger standen damals auf der Bühne und sangen beim Frühjahrskonzert der Schule „Mein kleiner grüner Kaktus“. 2025 führt dieser Chor mit knapp 80 Sängerinnen und Sängern eines der anspruchsvollsten Chorwerke der Musikgeschichte auf: die Johannespassion von Johann Sebastian Bach. \nUnd was ist auf diesem Weg nicht alles passiert… Im Langhaussaal der Stadt Cham lassen wir die Erfolgsgeschichte Revue passieren. Veranstalter ist der Chor Lehra und Mehra\, gesponsert wird der Abend von der Weindl + Heut Ingenieur GbR. \n  \nHier gehts zum Kartenvorverkauf \n 
URL:https://lehramehra.de/event/lehra-und-mehra-25-jahre-chormusik-best-of-2/
LOCATION:Langhaussaal Rathaus Cham\, Marktplatz 2\, Cham\, Bayern\, 93413\, Germany
CATEGORIES:Lehra&Mehra
ATTACH;FMTTYPE=image/jpeg:https://lehramehra.de/wp-content/uploads/01_ZItalia01-scaled.jpg
END:VEVENT
BEGIN:VEVENT
DTSTART;TZID=Europe/Berlin:20251025T190000
DTEND;TZID=Europe/Berlin:20251025T210000
DTSTAMP:20260423T121213
CREATED:20250509T054307Z
LAST-MODIFIED:20250509T054307Z
UID:766-1761418800-1761426000@lehramehra.de
SUMMARY:Lehra und Mehra - 25 Jahre Chormusik - Best of
DESCRIPTION:Was für eine Geschichte! \nVor einem Vierteljahrhundert gründete Andreas Ernst als Musiklehrer am Joseph-von-Fraunhofer-Gymnasium einen Lehrerchor. \nGenau acht Sängerinnen und Sänger standen damals auf der Bühne und sangen beim Frühjahrskonzert der Schule „Mein kleiner grüner Kaktus“. 2025 führt dieser Chor mit knapp 80 Sängerinnen und Sängern eines der anspruchsvollsten Chorwerke der Musikgeschichte auf: die Johannespassion von Johann Sebastian Bach. \nUnd was ist auf diesem Weg nicht alles passiert… Im Langhaussaal der Stadt Cham lassen wir die Erfolgsgeschichte Revue passieren. Veranstalter ist der Chor Lehra und Mehra\, gesponsert wird der Abend von der Weindl + Heut Ingenieur GbR. \n  \nHier gehts zum Kartenvorverkauf \n 
URL:https://lehramehra.de/event/lehra-und-mehra-25-jahre-chormusik-best-of/
LOCATION:Langhaussaal Rathaus Cham\, Marktplatz 2\, Cham\, Bayern\, 93413\, Germany
CATEGORIES:Lehra&Mehra
ATTACH;FMTTYPE=image/jpeg:https://lehramehra.de/wp-content/uploads/01_ZItalia01-scaled.jpg
END:VEVENT
BEGIN:VEVENT
DTSTART;TZID=Europe/Berlin:20251026T190000
DTEND;TZID=Europe/Berlin:20251026T210000
DTSTAMP:20260423T121213
CREATED:20250531T055202Z
LAST-MODIFIED:20250531T055338Z
UID:808-1761505200-1761512400@lehramehra.de
SUMMARY:Lehra und Mehra - 25 Jahre Chormusik - Best of
DESCRIPTION:Was für eine Geschichte! \nVor einem Vierteljahrhundert gründete Andreas Ernst als Musiklehrer am Joseph-von-Fraunhofer-Gymnasium einen Lehrerchor. \nGenau acht Sängerinnen und Sänger standen damals auf der Bühne und sangen beim Frühjahrskonzert der Schule „Mein kleiner grüner Kaktus“. 2025 führt dieser Chor mit knapp 80 Sängerinnen und Sängern eines der anspruchsvollsten Chorwerke der Musikgeschichte auf: die Johannespassion von Johann Sebastian Bach. \nUnd was ist auf diesem Weg nicht alles passiert… Im Langhaussaal der Stadt Cham lassen wir die Erfolgsgeschichte Revue passieren. Veranstalter ist der Chor Lehra und Mehra\, gesponsert wird der Abend von der Weindl + Heut Ingenieur GbR. \n  \nHier gehts zum Kartenvorverkauf \n 
URL:https://lehramehra.de/event/lehra-und-mehra-25-jahre-chormusik-best-of-4/
LOCATION:Langhaussaal Rathaus Cham\, Marktplatz 2\, Cham\, Bayern\, 93413\, Germany
CATEGORIES:Lehra&Mehra
ATTACH;FMTTYPE=image/jpeg:https://lehramehra.de/wp-content/uploads/01_ZItalia01-scaled.jpg
END:VEVENT
END:VCALENDAR