BEGIN:VCALENDAR
VERSION:2.0
PRODID:-//lehramehra.de - ECPv6.15.13.1//NONSGML v1.0//EN
CALSCALE:GREGORIAN
METHOD:PUBLISH
X-WR-CALNAME:lehramehra.de
X-ORIGINAL-URL:https://lehramehra.de
X-WR-CALDESC:Veranstaltungen für lehramehra.de
REFRESH-INTERVAL;VALUE=DURATION:PT1H
X-Robots-Tag:noindex
X-PUBLISHED-TTL:PT1H
BEGIN:VTIMEZONE
TZID:Europe/Berlin
BEGIN:DAYLIGHT
TZOFFSETFROM:+0100
TZOFFSETTO:+0200
TZNAME:CEST
DTSTART:20240331T010000
END:DAYLIGHT
BEGIN:STANDARD
TZOFFSETFROM:+0200
TZOFFSETTO:+0100
TZNAME:CET
DTSTART:20241027T010000
END:STANDARD
BEGIN:DAYLIGHT
TZOFFSETFROM:+0100
TZOFFSETTO:+0200
TZNAME:CEST
DTSTART:20250330T010000
END:DAYLIGHT
BEGIN:STANDARD
TZOFFSETFROM:+0200
TZOFFSETTO:+0100
TZNAME:CET
DTSTART:20251026T010000
END:STANDARD
BEGIN:DAYLIGHT
TZOFFSETFROM:+0100
TZOFFSETTO:+0200
TZNAME:CEST
DTSTART:20260329T010000
END:DAYLIGHT
BEGIN:STANDARD
TZOFFSETFROM:+0200
TZOFFSETTO:+0100
TZNAME:CET
DTSTART:20261025T010000
END:STANDARD
END:VTIMEZONE
BEGIN:VEVENT
DTSTART;TZID=Europe/Berlin:20250626T200000
DTEND;TZID=Europe/Berlin:20250626T220000
DTSTAMP:20260420T020348
CREATED:20250220T090042Z
LAST-MODIFIED:20250307T122954Z
UID:733-1750968000-1750975200@lehramehra.de
SUMMARY:Italienische Nacht bei der Landesgartenschau 2025
DESCRIPTION:Von Caprifischer bis Carbonara \n„Komm‘ ein bisschen mit nach Italien“ – so heißt es in dem 1956 erschienen Film „Bonjour\, Kathrin“ mit Caterina Valente und Peter Alexander. Dieses Motto hat sich der bekannte Chamer Chor unter der Leitung von Andreas Ernst gesetzt und will seine Zuhörer in eine italienische Nacht entführen. \nEntstanden ist die Idee für dieses Themenkonzert im Zusammenhang mit dem „Philharmonischen Bierzelt“ in Runding im Mai diesen Jahres\, wo LehraundMehra zusammen mit dem Orchester der Landkreismusikschule bekannte Lieder aus Opern wie „Carmen“ und „Aida“ aufführte. Ein großer Erfolg\, der die Sänger und ihren Dirigenten motivierte\, noch mehr Stücke aus dem reichen Schatz von italienischen Chorsätzen und Liedern aus mehreren Jahrhunderten einzustudieren. \nSo wird der Bogen von dem Lied „El Grillo“ von Josquin Desprez aus dem 15. Jahrhundert über Monteverdis Oper „L’Orfeo“\, uraufgeführt 1607\, bis zu humorvollen Popsongs wie „Expresso & Tschianti“ oder „Carbonara“ gespannt. Natürlich fehlt der 40er-Jahre-Hit „Caprifischer“ von Rudi Schuricke ebenso wenig wie das unvergessene „Azzurro“ von Adriano Celentano. \nAuch Stücke mit einem ernsten politischen Inhalt wie „Va pensiero“ von Guiseppe Verdi und die „Elegia ai caduti“ von Pippo Pollina werden zu hören sein. \nInsgesamt also ein überaus vielfältiges und kurzweiliges Programm\, das der Chor mit gewohnter Energie und viel Schwung bieten wird. Die Zuhörer können sich auf einen traumhaften italienischen Abend freuen. \n\n  \nHier gehts zum Kartenvorverkauf \n 
URL:https://lehramehra.de/event/italienischenacht-2/
LOCATION:Landesgartenschau Furth im Wald\, Furth im Wald\, Bayern\, 93437\, Germany
CATEGORIES:Lehra&Mehra
ORGANIZER;CN="Furth im Wald 2025 gGmbH":MAILTO:info@furth2025.de
END:VEVENT
END:VCALENDAR